BEGIN:VCALENDAR
VERSION:2.0
PRODID:-//eventon.com NONSGML v1.0//EN
CALSCALE:GREGORIAN
METHOD:PUBLISH
BEGIN:VEVENT
UID:69ea1f42985c1
DTSTAMP:20260423T133146Z
DTSTART:20260424T200000Z
DTEND:20260424T233000Z
LOCATION:
SUMMARY:Phil's - St George's quiz
DESCRIPTION:\nhttps://salfordssocialclub.org.uk/events/phils-st-georges-qui
 z/
URL:https://salfordssocialclub.org.uk/events/phils-st-georges-quiz/
END:VEVENT
END:VCALENDAR