BEGIN:VCALENDAR
VERSION:2.0
PRODID:-//eventon.com NONSGML v1.0//EN
CALSCALE:GREGORIAN
METHOD:PUBLISH
BEGIN:VEVENT
UID:69ea1f7a97a62
DTSTAMP:20260423T133242Z
DTSTART:20260405T173000Z
DTEND:20260405T183000Z
LOCATION:
SUMMARY:Meat raffle
DESCRIPTION:\nhttps://salfordssocialclub.org.uk/events/meat-raffle/
URL:https://salfordssocialclub.org.uk/events/meat-raffle/
END:VEVENT
END:VCALENDAR