BEGIN:VCALENDAR
VERSION:2.0
PRODID:-//eventon.com NONSGML v1.0//EN
CALSCALE:GREGORIAN
METHOD:PUBLISH
BEGIN:VEVENT
UID:69ea20b3875d0
DTSTAMP:20260423T133755Z
DTSTART:20260405T143000Z
DTEND:20260405T163000Z
LOCATION:
SUMMARY:Kids Easter Party
DESCRIPTION:\nhttps://salfordssocialclub.org.uk/events/kids-easter-party/
URL:https://salfordssocialclub.org.uk/events/kids-easter-party/
END:VEVENT
END:VCALENDAR